BEGIN:VCALENDAR
VERSION:2.0
PRODID:-//Ring Sarasota - ECPv6.15.20//NONSGML v1.0//EN
CALSCALE:GREGORIAN
METHOD:PUBLISH
X-WR-CALNAME:Ring Sarasota
X-ORIGINAL-URL:https://www.ringsarasota.org
X-WR-CALDESC:Events for Ring Sarasota
REFRESH-INTERVAL;VALUE=DURATION:PT1H
X-Robots-Tag:noindex
X-PUBLISHED-TTL:PT1H
BEGIN:VTIMEZONE
TZID:America/New_York
BEGIN:DAYLIGHT
TZOFFSETFROM:-0500
TZOFFSETTO:-0400
TZNAME:EDT
DTSTART:20230312T070000
END:DAYLIGHT
BEGIN:STANDARD
TZOFFSETFROM:-0400
TZOFFSETTO:-0500
TZNAME:EST
DTSTART:20231105T060000
END:STANDARD
BEGIN:DAYLIGHT
TZOFFSETFROM:-0500
TZOFFSETTO:-0400
TZNAME:EDT
DTSTART:20240310T070000
END:DAYLIGHT
BEGIN:STANDARD
TZOFFSETFROM:-0400
TZOFFSETTO:-0500
TZNAME:EST
DTSTART:20241103T060000
END:STANDARD
BEGIN:DAYLIGHT
TZOFFSETFROM:-0500
TZOFFSETTO:-0400
TZNAME:EDT
DTSTART:20250309T070000
END:DAYLIGHT
BEGIN:STANDARD
TZOFFSETFROM:-0400
TZOFFSETTO:-0500
TZNAME:EST
DTSTART:20251102T060000
END:STANDARD
END:VTIMEZONE
BEGIN:VEVENT
DTSTART;TZID=America/New_York:20241012T090000
DTEND;TZID=America/New_York:20241012T160000
DTSTAMP:20260423T165901
CREATED:20240330T234140Z
LAST-MODIFIED:20241008T192427Z
UID:3692-1728723600-1728748800@www.ringsarasota.org
SUMMARY:Cancelled - Holiday Headstart 2024
DESCRIPTION:CANCELLED DUE TO HURRICANE MILTON\nRing Sarasota is excited to announce the return of its popular “Holiday Headstart” workshop\, offering an opportunity for handbell choirs to get a jumpstart on their Christmas programs!  \n\n\nThis one-day workshop is for handbell choirs to work on music for December. All selections will be easily accessible for any choir\, no matter the size or experience. After working through the pieces\, the ringers will participate in a public performance of the music\, to boost their confidence and get audience members in the Christmas spirit. Any ringer is welcome and encouraged to participate. Individuals and groups are welcome to sign-up! Lunch will be provided and the public performance will be held at 3 pm. \n\n\nAll music\, selected in advance\, will be appropriate for any time during the advent season or on Christmas Eve or Christmas Day. Attendees will need to purchase music ahead of time. Participating ringers & choirs may wish to read through the material in advance to better prepare for the workshop.  
URL:https://www.ringsarasota.org/event/holiday-headstart-2024/
LOCATION:Pine Shores Community Center\, 6210 Crestwood Ave\, Sarasota\, FL\, 34232\, United States
CATEGORIES:Workshop
ATTACH;FMTTYPE=image/png:https://www.ringsarasota.org/wp-content/uploads/2024/03/HOliday-headstart-cancelled.png
ORGANIZER;CN="Ring Sarasota":MAILTO:info@ringsarasota.org
END:VEVENT
END:VCALENDAR