BEGIN:VCALENDAR
VERSION:2.0
PRODID:-//Ring Sarasota - ECPv6.15.20//NONSGML v1.0//EN
CALSCALE:GREGORIAN
METHOD:PUBLISH
X-ORIGINAL-URL:https://www.ringsarasota.org
X-WR-CALDESC:Events for Ring Sarasota
REFRESH-INTERVAL;VALUE=DURATION:PT1H
X-Robots-Tag:noindex
X-PUBLISHED-TTL:PT1H
BEGIN:VTIMEZONE
TZID:America/New_York
BEGIN:DAYLIGHT
TZOFFSETFROM:-0500
TZOFFSETTO:-0400
TZNAME:EDT
DTSTART:20240310T070000
END:DAYLIGHT
BEGIN:STANDARD
TZOFFSETFROM:-0400
TZOFFSETTO:-0500
TZNAME:EST
DTSTART:20241103T060000
END:STANDARD
BEGIN:DAYLIGHT
TZOFFSETFROM:-0500
TZOFFSETTO:-0400
TZNAME:EDT
DTSTART:20250309T070000
END:DAYLIGHT
BEGIN:STANDARD
TZOFFSETFROM:-0400
TZOFFSETTO:-0500
TZNAME:EST
DTSTART:20251102T060000
END:STANDARD
BEGIN:DAYLIGHT
TZOFFSETFROM:-0500
TZOFFSETTO:-0400
TZNAME:EDT
DTSTART:20260308T070000
END:DAYLIGHT
BEGIN:STANDARD
TZOFFSETFROM:-0400
TZOFFSETTO:-0500
TZNAME:EST
DTSTART:20261101T060000
END:STANDARD
END:VTIMEZONE
BEGIN:VEVENT
DTSTART;TZID=America/New_York:20250309T170000
DTEND;TZID=America/New_York:20250309T190000
DTSTAMP:20260423T101933
CREATED:20240807T192149Z
LAST-MODIFIED:20240927T154500Z
UID:3843-1741539600-1741546800@www.ringsarasota.org
SUMMARY:Celebrate! Join the Party! Venice
DESCRIPTION:Ring Sarasota invites you to celebrate their 15th performance season with a musical journey through the year. Celebrate! Join the Party! features a vibrant selection of handbell arrangements\, each piece capturing the essence of a different month. From the sunny optimism of “Aquarius/Let the Sunshine In” to the winter magic of “Sleigh Ride\,” Ring Sarasota promises a delightful and entertaining concert experience. With popular tunes like “Singing in the Rain\,” “Footloose\,” and the “Ghostbusters” theme\, this season is sure to be a crowd-pleaser. Join us as we commemorate this special anniversary with a year of handbell harmony.
URL:https://www.ringsarasota.org/event/celebrate-join-the-party-venice/
LOCATION:St. Mark’s Episcopal Church\, 513 Nassau Street\, Venice\, FL\, 34285\, United States
CATEGORIES:Performances
ATTACH;FMTTYPE=image/png:https://www.ringsarasota.org/wp-content/uploads/2024/08/Celebrate-graphic-final.png
ORGANIZER;CN="Ring Sarasota":MAILTO:info@ringsarasota.org
END:VEVENT
BEGIN:VEVENT
DTSTART;TZID=America/New_York:20250314T180000
DTEND;TZID=America/New_York:20250314T200000
DTSTAMP:20260423T101933
CREATED:20240807T192539Z
LAST-MODIFIED:20240927T154425Z
UID:3845-1741975200-1741982400@www.ringsarasota.org
SUMMARY:Celebrate! Join the Party! Lakewood Ranch
DESCRIPTION:Ring Sarasota invites you to celebrate their 15th performance season with a musical journey through the year. Celebrate! Join the Party! features a vibrant selection of handbell arrangements\, each piece capturing the essence of a different month. From the sunny optimism of “Aquarius/Let the Sunshine In” to the winter magic of “Sleigh Ride\,” Ring Sarasota promises a delightful and entertaining concert experience. With popular tunes like “Singing in the Rain\,” “Footloose\,” and the “Ghostbusters” theme\, this season is sure to be a crowd-pleaser. Join us as we commemorate this special anniversary with a year of handbell harmony.
URL:https://www.ringsarasota.org/event/celebrate-join-the-party-lakewood-ranch/
LOCATION:Sights & Sounds at Waterside Place\, 7500 Island Cove Terrace\, Lakewood Ranch\, FL\, 34240\, United States
CATEGORIES:Performances
ATTACH;FMTTYPE=image/png:https://www.ringsarasota.org/wp-content/uploads/2024/08/Celebrate-graphic-final.png
END:VEVENT
BEGIN:VEVENT
DTSTART;TZID=America/New_York:20250316T160000
DTEND;TZID=America/New_York:20250316T180000
DTSTAMP:20260423T101933
CREATED:20240807T193020Z
LAST-MODIFIED:20240927T154328Z
UID:3847-1742140800-1742148000@www.ringsarasota.org
SUMMARY:Celebrate! Join the Party! Bradenton
DESCRIPTION:Ring Sarasota invites you to celebrate their 15th performance season with a musical journey through the year. Celebrate! Join the Party! features a vibrant selection of handbell arrangements\, each piece capturing the essence of a different month. From the sunny optimism of “Aquarius/Let the Sunshine In” to the winter magic of “Sleigh Ride\,” Ring Sarasota promises a delightful and entertaining concert experience. With popular tunes like “Singing in the Rain\,” “Footloose\,” and the “Ghostbusters” theme\, this season is sure to be a crowd-pleaser. Join us as we commemorate this special anniversary with a year of handbell harmony.
URL:https://www.ringsarasota.org/event/celebrate-join-the-party-bradenton/
LOCATION:First United Methodist Church\, Bradenton\, 603 11th St W\, Bradenton\, FL\, 34205\, United States
CATEGORIES:Performances
ATTACH;FMTTYPE=image/png:https://www.ringsarasota.org/wp-content/uploads/2024/08/Celebrate-graphic-final.png
ORGANIZER;CN="Ring Sarasota":MAILTO:info@ringsarasota.org
END:VEVENT
BEGIN:VEVENT
DTSTART;TZID=America/New_York:20250330T150000
DTEND;TZID=America/New_York:20250330T170000
DTSTAMP:20260423T101933
CREATED:20240807T193407Z
LAST-MODIFIED:20240927T154253Z
UID:3850-1743346800-1743354000@www.ringsarasota.org
SUMMARY:Celebrate! Join the Party!\, Largo
DESCRIPTION:Ring Sarasota invites you to celebrate their 15th performance season with a musical journey through the year. Celebrate! Join the Party! features a vibrant selection of handbell arrangements\, each piece capturing the essence of a different month. From the sunny optimism of “Aquarius/Let the Sunshine In” to the winter magic of “Sleigh Ride\,” Ring Sarasota promises a delightful and entertaining concert experience. With popular tunes like “Singing in the Rain\,” “Footloose\,” and the “Ghostbusters” theme\, this season is sure to be a crowd-pleaser. Join us as we commemorate this special anniversary with a year of handbell harmony.
URL:https://www.ringsarasota.org/event/celebrate-join-the-party-largo/
LOCATION:Prince of Peace Lutheran\, 455 Missouri Avenue\, Largo\, FL\, 33770\, United States
CATEGORIES:Performances
ATTACH;FMTTYPE=image/png:https://www.ringsarasota.org/wp-content/uploads/2024/08/Celebrate-graphic-final.png
ORGANIZER;CN="Ring Sarasota":MAILTO:info@ringsarasota.org
END:VEVENT
END:VCALENDAR