BEGIN:VCALENDAR
VERSION:2.0
PRODID:-//Ring Sarasota - ECPv6.15.20//NONSGML v1.0//EN
CALSCALE:GREGORIAN
METHOD:PUBLISH
X-WR-CALNAME:Ring Sarasota
X-ORIGINAL-URL:https://www.ringsarasota.org
X-WR-CALDESC:Events for Ring Sarasota
REFRESH-INTERVAL;VALUE=DURATION:PT1H
X-Robots-Tag:noindex
X-PUBLISHED-TTL:PT1H
BEGIN:VTIMEZONE
TZID:America/New_York
BEGIN:DAYLIGHT
TZOFFSETFROM:-0500
TZOFFSETTO:-0400
TZNAME:EDT
DTSTART:20240310T070000
END:DAYLIGHT
BEGIN:STANDARD
TZOFFSETFROM:-0400
TZOFFSETTO:-0500
TZNAME:EST
DTSTART:20241103T060000
END:STANDARD
BEGIN:DAYLIGHT
TZOFFSETFROM:-0500
TZOFFSETTO:-0400
TZNAME:EDT
DTSTART:20250309T070000
END:DAYLIGHT
BEGIN:STANDARD
TZOFFSETFROM:-0400
TZOFFSETTO:-0500
TZNAME:EST
DTSTART:20251102T060000
END:STANDARD
BEGIN:DAYLIGHT
TZOFFSETFROM:-0500
TZOFFSETTO:-0400
TZNAME:EDT
DTSTART:20260308T070000
END:DAYLIGHT
BEGIN:STANDARD
TZOFFSETFROM:-0400
TZOFFSETTO:-0500
TZNAME:EST
DTSTART:20261101T060000
END:STANDARD
END:VTIMEZONE
BEGIN:VEVENT
DTSTART;TZID=America/New_York:20250406T170000
DTEND;TZID=America/New_York:20250406T190000
DTSTAMP:20260423T083846
CREATED:20240807T193746Z
LAST-MODIFIED:20240927T154143Z
UID:3852-1743958800-1743966000@www.ringsarasota.org
SUMMARY:Celebrate! Join the Party! Sebring
DESCRIPTION:Ring Sarasota invites you to celebrate their 15th performance season with a musical journey through the year. Celebrate! Join the Party! features a vibrant selection of handbell arrangements\, each piece capturing the essence of a different month. From the sunny optimism of “Aquarius/Let the Sunshine In” to the winter magic of “Sleigh Ride\,” Ring Sarasota promises a delightful and entertaining concert experience. With popular tunes like “Singing in the Rain\,” “Footloose\,” and the “Ghostbusters” theme\, this season is sure to be a crowd-pleaser. Join us as we commemorate this special anniversary with a year of handbell harmony. \nFree Will Offering
URL:https://www.ringsarasota.org/event/celebrate-join-the-party-sebring/
LOCATION:St. John United Methodist Church\, 33631 Grand Prix Drive\, Sebring\, FL\, 33872\, United States
CATEGORIES:Performances
ATTACH;FMTTYPE=image/png:https://www.ringsarasota.org/wp-content/uploads/2024/08/Celebrate-graphic-final.png
ORGANIZER;CN="Ring Sarasota":MAILTO:info@ringsarasota.org
END:VEVENT
BEGIN:VEVENT
DTSTART;TZID=America/New_York:20250413T170000
DTEND;TZID=America/New_York:20250413T190000
DTSTAMP:20260423T083846
CREATED:20240807T195608Z
LAST-MODIFIED:20250411T134146Z
UID:3855-1744563600-1744570800@www.ringsarasota.org
SUMMARY:Celebrate! Join the Party! St. Armands
DESCRIPTION:Ring Sarasota invites you to celebrate their 15th performance season with a musical journey through the year. Celebrate! Join the Party! features a vibrant selection of handbell arrangements\, each piece capturing the essence of a different month. From the sunny optimism of “Aquarius/Let the Sunshine In” to the winter magic of “Sleigh Ride\,” Ring Sarasota promises a delightful and entertaining concert experience. With popular tunes like “Singing in the Rain\,” “Footloose\,” and the “Ghostbusters” theme\, this season is sure to be a crowd-pleaser. Join us as we commemorate this special anniversary with a year of handbell harmony. \n  \nTickets: $20 at the door. Please contact St. Armands Key Lutheran Church with ticketing questions.
URL:https://www.ringsarasota.org/event/celebrate-join-the-party-st-armands/
LOCATION:St. Armands Key Lutheran Church\, 40 N Adams Drive\, Sarasota\, FL\, 34236\, United States
CATEGORIES:Performances
ATTACH;FMTTYPE=image/png:https://www.ringsarasota.org/wp-content/uploads/2024/08/Celebrate-graphic-final.png
ORGANIZER;CN="Ring Sarasota":MAILTO:info@ringsarasota.org
END:VEVENT
BEGIN:VEVENT
DTSTART;TZID=America/New_York:20250427T170000
DTEND;TZID=America/New_York:20250427T190000
DTSTAMP:20260423T083846
CREATED:20240807T200237Z
LAST-MODIFIED:20240927T153928Z
UID:3859-1745773200-1745780400@www.ringsarasota.org
SUMMARY:Celebrate! Join the Party! Sarasota
DESCRIPTION:Ring Sarasota invites you to celebrate their 15th performance season with a musical journey through the year. Celebrate! Join the Party! features a vibrant selection of handbell arrangements\, each piece capturing the essence of a different month. From the sunny optimism of “Aquarius/Let the Sunshine In” to the winter magic of “Sleigh Ride\,” Ring Sarasota promises a delightful and entertaining concert experience. With popular tunes like “Singing in the Rain\,” “Footloose\,” and the “Ghostbusters” theme\, this season is sure to be a crowd-pleaser. Join us as we commemorate this special anniversary with a year of handbell harmony.
URL:https://www.ringsarasota.org/event/celebrate-join-the-party-sarasota/
LOCATION:Pine Shores Presbyterian Church\, 6116 Crestwood Ave.\, Sarasota\, FL\, 34231\, United States
CATEGORIES:Performances
ATTACH;FMTTYPE=image/png:https://www.ringsarasota.org/wp-content/uploads/2024/08/Celebrate-graphic-final.png
ORGANIZER;CN="Ring Sarasota":MAILTO:info@ringsarasota.org
END:VEVENT
END:VCALENDAR