BEGIN:VCALENDAR
VERSION:2.0
PRODID:-//Ring Sarasota - ECPv6.15.20//NONSGML v1.0//EN
CALSCALE:GREGORIAN
METHOD:PUBLISH
X-WR-CALNAME:Ring Sarasota
X-ORIGINAL-URL:https://www.ringsarasota.org
X-WR-CALDESC:Events for Ring Sarasota
REFRESH-INTERVAL;VALUE=DURATION:PT1H
X-Robots-Tag:noindex
X-PUBLISHED-TTL:PT1H
BEGIN:VTIMEZONE
TZID:America/New_York
BEGIN:DAYLIGHT
TZOFFSETFROM:-0500
TZOFFSETTO:-0400
TZNAME:EDT
DTSTART:20230312T070000
END:DAYLIGHT
BEGIN:STANDARD
TZOFFSETFROM:-0400
TZOFFSETTO:-0500
TZNAME:EST
DTSTART:20231105T060000
END:STANDARD
BEGIN:DAYLIGHT
TZOFFSETFROM:-0500
TZOFFSETTO:-0400
TZNAME:EDT
DTSTART:20240310T070000
END:DAYLIGHT
BEGIN:STANDARD
TZOFFSETFROM:-0400
TZOFFSETTO:-0500
TZNAME:EST
DTSTART:20241103T060000
END:STANDARD
BEGIN:DAYLIGHT
TZOFFSETFROM:-0500
TZOFFSETTO:-0400
TZNAME:EDT
DTSTART:20250309T070000
END:DAYLIGHT
BEGIN:STANDARD
TZOFFSETFROM:-0400
TZOFFSETTO:-0500
TZNAME:EST
DTSTART:20251102T060000
END:STANDARD
END:VTIMEZONE
BEGIN:VEVENT
DTSTART;TZID=America/New_York:20241221T173000
DTEND;TZID=America/New_York:20241221T210000
DTSTAMP:20260423T154352
CREATED:20240807T191738Z
LAST-MODIFIED:20240807T191738Z
UID:3841-1734802200-1734814800@www.ringsarasota.org
SUMMARY:Lights in Bloom\, Holiday Ringing
DESCRIPTION:Lights in Bloom® features more than two million lights illuminating the gardens and walkways of the Downtown Sarasota campus. Step into a tropical winter wonderland at the Downtown Sarasota campus featuring more than two million lights\, festive photo opportunities\, activities & entertainment for the whole family to enjoy! Lights in Bloom® is proudly ranked #6 in USA Today 10 Best Readers’ Choice contest for Best Botanical Garden Holiday Lights in the country.
URL:https://www.ringsarasota.org/event/lights-in-bloom-holiday-ringing/
LOCATION:Selby Gardens\, 1534 Mound Street\, Sarasota\, FL\, 34236\, United States
CATEGORIES:Special Performances
ATTACH;FMTTYPE=image/jpeg:https://www.ringsarasota.org/wp-content/uploads/2022/06/Selby-2020-scaled.jpg
END:VEVENT
END:VCALENDAR