BEGIN:VCALENDAR
VERSION:2.0
PRODID:-//Ring Sarasota - ECPv6.15.20//NONSGML v1.0//EN
CALSCALE:GREGORIAN
METHOD:PUBLISH
X-WR-CALNAME:Ring Sarasota
X-ORIGINAL-URL:https://www.ringsarasota.org
X-WR-CALDESC:Events for Ring Sarasota
REFRESH-INTERVAL;VALUE=DURATION:PT1H
X-Robots-Tag:noindex
X-PUBLISHED-TTL:PT1H
BEGIN:VTIMEZONE
TZID:America/New_York
BEGIN:DAYLIGHT
TZOFFSETFROM:-0500
TZOFFSETTO:-0400
TZNAME:EDT
DTSTART:20240310T070000
END:DAYLIGHT
BEGIN:STANDARD
TZOFFSETFROM:-0400
TZOFFSETTO:-0500
TZNAME:EST
DTSTART:20241103T060000
END:STANDARD
BEGIN:DAYLIGHT
TZOFFSETFROM:-0500
TZOFFSETTO:-0400
TZNAME:EDT
DTSTART:20250309T070000
END:DAYLIGHT
BEGIN:STANDARD
TZOFFSETFROM:-0400
TZOFFSETTO:-0500
TZNAME:EST
DTSTART:20251102T060000
END:STANDARD
BEGIN:DAYLIGHT
TZOFFSETFROM:-0500
TZOFFSETTO:-0400
TZNAME:EDT
DTSTART:20260308T070000
END:DAYLIGHT
BEGIN:STANDARD
TZOFFSETFROM:-0400
TZOFFSETTO:-0500
TZNAME:EST
DTSTART:20261101T060000
END:STANDARD
END:VTIMEZONE
BEGIN:VEVENT
DTSTART;TZID=America/New_York:20250811T180000
DTEND;TZID=America/New_York:20250811T190000
DTSTAMP:20260419T140421
CREATED:20250416T033127Z
LAST-MODIFIED:20250416T033224Z
UID:3999-1754935200-1754938800@www.ringsarasota.org
SUMMARY:Ringing 101 - August 11\, 2025
DESCRIPTION:Join us for Handbells 101 this summer on Monday evenings starting July 14 through August 18\, 2025 — no cost\, no experience necessary\, no commitment\, and no pressure! We will start from square one and have fun learning together! \nCome once or come all six times\, whatever rings your fancy! All levels are welcome. \nFor more information and to let us know you’re coming\, please email Ring Sarasota Associate Conductor Terri Chapman HERE 
URL:https://www.ringsarasota.org/event/ringing-101-august-11-2025/
LOCATION:Pine Shores Presbyterian Church\, 6116 Crestwood Ave.\, Sarasota\, FL\, 34231\, United States
CATEGORIES:Workshop
ATTACH;FMTTYPE=image/png:https://www.ringsarasota.org/wp-content/uploads/2025/04/Ringing-101-2025.png
ORGANIZER;CN="Ring Sarasota":MAILTO:info@ringsarasota.org
END:VEVENT
END:VCALENDAR